BEGIN:VCALENDAR
VERSION:2.0
PRODID:-//www.hvef.org//NONSGML kigkonsult.se iCalcreator 2.30.10//
CALSCALE:GREGORIAN
METHOD:PUBLISH
UID:b47d7d24-e3dc-43cf-8eeb-a9a00324d9c8
X-WR-CALDESC:
X-WR-RELCALID:c711f4d86b467a04a80d7bd9cff5f15f
X-WR-TIMEZONE:America/New_York
BEGIN:VTIMEZONE
TZID:America/New_York
BEGIN:STANDARD
TZNAME:EST
DTSTART:20181104T020000
TZOFFSETFROM:-0400
TZOFFSETTO:-0500
RDATE:20191103T020000
RDATE:20201101T020000
END:STANDARD
BEGIN:DAYLIGHT
TZNAME:EDT
DTSTART:20190310T020000
TZOFFSETFROM:-0500
TZOFFSETTO:-0400
RDATE:20200308T020000
RDATE:20210314T020000
END:DAYLIGHT
END:VTIMEZONE
BEGIN:VEVENT
UID:a5dddc47-dfe6-4205-a651-00907817aa9f
DTSTAMP:20260422T103014Z
DESCRIPTION:
DTSTART;TZID=America/New_York:20191021T150000
DTEND;TZID=America/New_York:20191021T153000
LOCATION:
SUMMARY:HVEF Presents at TMS and CHS Faculty Meetings
END:VEVENT
END:VCALENDAR
